BEGIN:VCALENDAR
VERSION:2.0
PRODID:-//AIHE - ECPv4.8.2//NONSGML v1.0//EN
CALSCALE:GREGORIAN
METHOD:PUBLISH
X-WR-CALNAME:AIHE
X-ORIGINAL-URL:https://aihe.com.au
X-WR-CALDESC:Events for AIHE
BEGIN:VEVENT
DTSTART;VALUE=DATE:20191002
DTEND;VALUE=DATE:20191003
DTSTAMP:20210226T172456
CREATED:20190418T001930Z
LAST-MODIFIED:20190418T001930Z
UID:208-1569974400-1570060799@aihe.com.au
SUMMARY:CROWN
DESCRIPTION:Guest Speaker(s): HFM PRESENTATION \n
URL:https://aihe.com.au/event/crown/
LOCATION:CROWN
END:VEVENT
END:VCALENDAR