BEGIN:VCALENDAR
VERSION:2.0
PRODID:-//AIHE - ECPv4.8.2//NONSGML v1.0//EN
CALSCALE:GREGORIAN
METHOD:PUBLISH
X-WR-CALNAME:AIHE
X-ORIGINAL-URL:https://aihe.com.au
X-WR-CALDESC:Events for AIHE
BEGIN:VEVENT
DTSTART;TZID=UTC+10:20190815T080000
DTEND;TZID=UTC+10:20190816T170000
DTSTAMP:20210226T172711
CREATED:20190417T002528Z
LAST-MODIFIED:20190516T235029Z
UID:81-1565856000-1565974800@aihe.com.au
SUMMARY:UPDATE CONFERENCE AIHE AUGUST 2019
DESCRIPTION:[vc_row][vc_column][vc_column_text]QT Hotel Surfers Paradise\, Gold Coast\, Queensland \nExhibition of up to 30 key industry suppliers I Up to 150 delegates in attendance \nDelegates include key decision makers in hotel engineering \nIndustry’s leading body\, providing hotel engineers from across the nation with a forum for progressive thought whilst promoting best practices.[/vc_column_text][/vc_column][/vc_row][vc_row][vc_column width=”1/2″][vc_cta h2=”Delegate Prospectus 2019″ h4=”QT Hotel Surfers Paradise\, Gold Coast\, Queensland” color=”violet” add_button=”bottom” btn_title=”Download” btn_color=”black” btn_link=”url:https%3A%2F%2Faihe.com.au%2Fwp-content%2Fuploads%2F2019%2F05%2FAIHE-Official-Delegate-Prospectus-2019.pdf||target:%20_blank|”][/vc_cta][/vc_column][vc_column width=”1/2″][vc_cta h2=”Exhibitor Prospectus 2019″ h4=”QT Hotel Surfers Paradise\, Gold Coast\, Queensland” color=”violet” add_button=”bottom” btn_title=”Download” btn_color=”black” btn_link=”url:https%3A%2F%2Faihe.com.au%2Fwp-content%2Fuploads%2F2019%2F05%2FAIHE-2019-Brochure_Exhibitor-Prospectus.pdf||target:%20_blank|”][/vc_cta][/vc_column][/vc_row] \n
URL:https://aihe.com.au/event/update-conference-aihe-august-2019/
LOCATION:QT Hotel Gold Coast\, Australia
ATTACH;FMTTYPE=image/jpeg:https://aihe.com.au/wp-content/uploads/2019/04/event_2019.jpg
END:VEVENT
END:VCALENDAR