BEGIN:VCALENDAR
VERSION:2.0
PRODID:-//AIHE - ECPv4.8.2//NONSGML v1.0//EN
CALSCALE:GREGORIAN
METHOD:PUBLISH
X-WR-CALNAME:AIHE
X-ORIGINAL-URL:https://aihe.com.au
X-WR-CALDESC:Events for AIHE
BEGIN:VEVENT
DTSTART;VALUE=DATE:20190402
DTEND;VALUE=DATE:20190403
DTSTAMP:20210226T173816
CREATED:20190418T001401Z
LAST-MODIFIED:20190418T001401Z
UID:193-1554163200-1554249599@aihe.com.au
SUMMARY:INFINITE ENERGY
DESCRIPTION:Guest Speaker(s): INFINITE ENERGY \nDrinks at Rambla \n
URL:https://aihe.com.au/event/infinite-energy/
LOCATION:INFINITE ENERGY
END:VEVENT
END:VCALENDAR