BEGIN:VCALENDAR
VERSION:2.0
PRODID:-//AIHE - ECPv4.8.2//NONSGML v1.0//EN
CALSCALE:GREGORIAN
METHOD:PUBLISH
X-WR-CALNAME:AIHE
X-ORIGINAL-URL:https://aihe.com.au
X-WR-CALDESC:Events for AIHE
BEGIN:VEVENT
DTSTART;VALUE=DATE:20191203
DTEND;VALUE=DATE:20191204
DTSTAMP:20210226T171459
CREATED:20190418T002017Z
LAST-MODIFIED:20190418T002017Z
UID:211-1575331200-1575417599@aihe.com.au
SUMMARY:WA CHRISTMAS PARTY
DESCRIPTION:
URL:https://aihe.com.au/event/wa-christmas-party/
END:VEVENT
END:VCALENDAR