BEGIN:VCALENDAR
VERSION:2.0
PRODID:-//AIHE - ECPv4.8.2//NONSGML v1.0//EN
CALSCALE:GREGORIAN
METHOD:PUBLISH
X-WR-CALNAME:AIHE
X-ORIGINAL-URL:https://aihe.com.au
X-WR-CALDESC:Events for AIHE
BEGIN:VEVENT
DTSTART;VALUE=DATE:20180902
DTEND;VALUE=DATE:20180903
DTSTAMP:20210226T171750
CREATED:20190417T235145Z
LAST-MODIFIED:20190417T235145Z
UID:166-1535846400-1535932799@aihe.com.au
SUMMARY:POOLWERX
DESCRIPTION:Venue: TBA Guest Speaker: POOLWERX\n\nVenue: TBA \nGuest Speaker: POOLWERX \n\n
URL:https://aihe.com.au/event/poolwerx/
END:VEVENT
END:VCALENDAR