BEGIN:VCALENDAR
VERSION:2.0
PRODID:-//AIHE - ECPv4.8.2//NONSGML v1.0//EN
CALSCALE:GREGORIAN
METHOD:PUBLISH
X-WR-CALNAME:AIHE
X-ORIGINAL-URL:https://aihe.com.au
X-WR-CALDESC:Events for AIHE
BEGIN:VEVENT
DTSTART;VALUE=DATE:20180725
DTEND;VALUE=DATE:20180726
DTSTAMP:20210226T171802
CREATED:20190417T054835Z
LAST-MODIFIED:20190417T054835Z
UID:156-1532476800-1532563199@aihe.com.au
SUMMARY:Pipe Relining Education and Awareness
DESCRIPTION:The Hilton\, 488 George Street\, Sydney NSW 2000\, Australia \nTopic: Pipe Relining Education and Awareness \nPresenter: Matt Bell – Nuflow Technologies. \n
URL:https://aihe.com.au/event/pipe-relining-education-and-awareness/
LOCATION:The Hilton\, 488 George Street\, Sydney NSW 2000\, Australia
END:VEVENT
END:VCALENDAR