BEGIN:VCALENDAR
VERSION:2.0
PRODID:-//AIHE - ECPv4.8.2//NONSGML v1.0//EN
CALSCALE:GREGORIAN
METHOD:PUBLISH
X-WR-CALNAME:AIHE
X-ORIGINAL-URL:https://aihe.com.au
X-WR-CALDESC:Events for AIHE
BEGIN:VEVENT
DTSTART;VALUE=DATE:20181217
DTEND;VALUE=DATE:20181218
DTSTAMP:20210226T171620
CREATED:20190418T000925Z
LAST-MODIFIED:20190418T000925Z
UID:184-1545004800-1545091199@aihe.com.au
SUMMARY:NSW chapter Christmas party
DESCRIPTION:NSW chapter Christmas party\n
URL:https://aihe.com.au/event/nsw-chapter-christmas-party/
LOCATION:The Art House Hotel Sydney
END:VEVENT
END:VCALENDAR