BEGIN:VCALENDAR
VERSION:2.0
PRODID:-//AIHE - ECPv4.8.2//NONSGML v1.0//EN
CALSCALE:GREGORIAN
METHOD:PUBLISH
X-WR-CALNAME:AIHE
X-ORIGINAL-URL:https://aihe.com.au
X-WR-CALDESC:Events for AIHE
BEGIN:VEVENT
DTSTART;VALUE=DATE:20190503
DTEND;VALUE=DATE:20190504
DTSTAMP:20210226T171421
CREATED:20190418T001518Z
LAST-MODIFIED:20190419T000941Z
UID:196-1556841600-1556927999@aihe.com.au
SUMMARY:Golf Day
DESCRIPTION:Guest Speaker(s): REECE \n  \n
URL:https://aihe.com.au/event/golf-day/
LOCATION:DOUBLE TREE BY HILTON
END:VEVENT
END:VCALENDAR