BEGIN:VCALENDAR
VERSION:2.0
PRODID:-//AIHE - ECPv4.8.2//NONSGML v1.0//EN
CALSCALE:GREGORIAN
METHOD:PUBLISH
X-WR-CALNAME:AIHE
X-ORIGINAL-URL:https://aihe.com.au
X-WR-CALDESC:Events for AIHE
BEGIN:VEVENT
DTSTART;VALUE=DATE:20180926
DTEND;VALUE=DATE:20180927
DTSTAMP:20210226T171711
CREATED:20190417T235300Z
LAST-MODIFIED:20190417T235300Z
UID:168-1537920000-1538006399@aihe.com.au
SUMMARY:Fireworks & Pyrotechnics for your function at your Hotel
DESCRIPTION:Amora Hotel\, Sydney \nTopic: Fireworks & Pyrotechnics for your function at your Hotel \nPresenter: Fred Sari – Sydney Fireworks and Pyrotechnics Pty Ltd \n
URL:https://aihe.com.au/event/fireworks-pyrotechnics-for-your-function-at-your-hotel/
LOCATION:Amora Hotel\, Sydney
END:VEVENT
END:VCALENDAR