BEGIN:VCALENDAR
VERSION:2.0
PRODID:-//AIHE - ECPv4.8.2//NONSGML v1.0//EN
CALSCALE:GREGORIAN
METHOD:PUBLISH
X-WR-CALNAME:AIHE
X-ORIGINAL-URL:https://aihe.com.au
X-WR-CALDESC:Events for AIHE
BEGIN:VEVENT
DTSTART;VALUE=DATE:20180627
DTEND;VALUE=DATE:20180628
DTSTAMP:20210226T171606
CREATED:20190417T054706Z
LAST-MODIFIED:20190417T054706Z
UID:153-1530057600-1530143999@aihe.com.au
SUMMARY:City of Sydney Environmental Grants Program - Round Two
DESCRIPTION:Topic: City of Sydney Environmental Grants Program – Round Two. \nPresenter: Kate Read- Sustainability Engagement Coordinator- City of Sydney \n
URL:https://aihe.com.au/event/city-of-sydney-environmental-grants-program-round-two/
LOCATION:Sofitel\, Sydney Darling Harbour
END:VEVENT
END:VCALENDAR